Workbook

Sheet для поселений
B1: Информация о количестве и структуре обращений граждан
B3: за июль месяц 2025 год
C5: тематика вопросов в обращениях
B6: поступило обращений | C6: вопросы коммунального хозяйства | D6: вопросы социального обеспечения | E6: вопросы здравоохранения | F6: вопросы строительства и архитектуры | G6: вопросы законности и правопорядка | H6: вопросы трудовых отношений | I6: вопросы земельных отношений | J6: вопросы улучшения жилищных условий | K6: ИТОГО | L6: ИТОГО с нарстающим итогом
A7: 1 | B7: письменные обращения (всего) | C7: =C9+C10+C11+C12+C13+C14 -> 0 | D7: =D9+D10+D11+D12+D13+D14 -> 18 | E7: =E9+E10+E11+E12+E13+E14 -> 0 | F7: =F9+F10+F11+F12+F13+F14 -> 0 | G7: =G9+G10+G11+G12+G13+G14 -> 9 | H7: =H9+H10+H11+H12+H13+H14 -> 0 | I7: =I9+I10+I11+I12+I13+I14 -> 0 | J7: =J9+J10+J11+J12+J13+J14 -> 0 | K7: =C7+D7+E7+F7+G7+H7+I7+J7 -> 27 | L7: 65
B8: в том числе:
A9: 1.1 | B9: письменные обращения из администрации президента | K9: =C9+D9+E9+F9+G9+H9+I9+J9 -> 0
A10: 1.2 | B10: письменные обращения поступившие из администрации края | K10: =C10+D10+E10+F10+G10+H10+I10+J10 -> 0 | L10: 1
A11: 1.3 | B11: письменные обращения поступившие из администрации района | K11: =C11+D11+E11+F11+G11+H11+I11+J11 -> 0 | L11: 1
A12: 1.4 | B12: письменные обращения поступившие из ЗСК | K12: 0 | L12: 1
A13: 1.5 | B13: письменные обращения поступившие из Прокуратуры Белоглинского района | K13: 0 | L13: 2
A14: 1.6 | B14: письменные обращения на имя главы сельского поселения | D14: 18 | G14: 9 | K14: =C14+D14+E14+F14+G14+H14+I14+J14 -> 27 | L14: 60
A15: 2 | B15: Рассмотрено письменных обращений всего | C15: =C17+C18+C19+C20+C21+C22+C23 -> 0 | D15: =D17+D18+D19+D20+D21+D22+D23 -> 18 | E15: =E17+E18+E19+E20+E21+E22+E23 -> 0 | F15: =F17+F18+F19+F20+F21+F22+F23 -> 0 | G15: =G17+G18+G19+G20+G21+G22+G23 -> 9 | H15: =H17+H18+H19+H20+H21+H22+H23 -> 0 | I15: =I17+I18+I19+I20+I21+I22+I23 -> 0 | J15: =J17+J18+J19+J20+J21+J22+J23 -> 0 | K15: =C15+D15+E15+F15+G15+H15+I15+J15 -> 27 | L15: 65
B16: Из них: | K16: =C16+D16+E16+F16+G16+H16+I16+J16 -> 0
A17: 2.1 | B17: рассмотрено с выездом на место | K17: =C17+D17+E17+F17+G17+H17+I17+J17 -> 0 | L17: 9
A18: 2.2 | B18: поступило обращений повторно | K18: =C18+D18+E18+F18+G18+H18+I18+J18 -> 0 | L18: 0
A19: 2.3 | B19: удовлетворено | D19: 1 | K19: =C19+D19+E19+F19+G19+H19+I19+J19 -> 1 | L19: 12
A20: 2.4 | B20: разъяснено | G20: 3 | K20: =C20+D20+E20+F20+G20+H20+I20+J20 -> 3 | L20: 21
A21: 2.5 | B21: отказано | K21: =C21+D21+E21+F21+G21+H21+I21+J21 -> 0
A22: 2.6 | B22: в работе | D22: 17 | G22: 6 | K22: =C22+D22+E22+F22+G22+H22+I22+J22 -> 23 | L22: 23
A23: 2.7 | B23: рассмотрено с нарушением сроков | K23: =C23+D23+E23+F23+G23+H23+I23+J23 -> 0
A24: 3 | B24: принято устных обращений | C24: =C25 -> 0 | D24: 10 | E24: =E25 -> 0 | F24: =F25 -> 0 | G24: 5 | H24: =H25 -> 0 | I24: =I25 -> 0 | J24: =J25 -> 0 | K24: 15 | L24: 49
A25: 3.1 | B25: в т.ч.принято обращений лично главой поселения | D25: 3 | G25: 1 | K25: =C25+D25+E25+F25+G25+H25+I25+J25 -> 4 | L25: 6
A26: 4 | B26: Рассмотрено устных обращений всего | C26: =C28+C29+C30+C31+C32+C33 -> 0 | D26: =D28+D29+D30+D31+D32+D33 -> 10 | E26: =E28+E29+E30+E31+E32+E33 -> 0 | F26: =F28+F29+F30+F31+F32+F33 -> 0 | G26: =G28+G29+G30+G31+G32+G33 -> 5 | H26: =H28+H29+H30+H31+H32+H33 -> 0 | I26: =I28+I29+I30+I31+I32+I33 -> 0 | J26: =J28+J29+J30+J31+J32+J33 -> 0 | K26: =C26+D26+E26+F26+G26+H26+I26+J26 -> 15 | L26: 49
B27: Из них: | K27: =C27+D27+E27+F27+G27+H27+I27+J27 -> 0
A28: 4.1 | B28: рассмотрено с выездом на место | K28: =C28+D28+E28+F28+G28+H28+I28+J28 -> 0
A29: 4.2 | B29: поступило обращений повторно | K29: =C29+D29+E29+F29+G29+H29+I29+J29 -> 0
A30: 4.3 | B30: удовлетворено | D30: 2 | K30: =C30+D30+E30+F30+G30+H30+I30+J30 -> 2 | L30: 20
A31: 4.4 | B31: разъяснено | D31: 4 | G31: 1 | K31: =C31+D31+E31+F31+G31+H31+I31+J31 -> 5 | L31: 21
A32: 4.5 | B32: отказано | K32: =C32+D32+E32+F32+G32+H32+I32+J32 -> 0
A33: 4.6 | B33: в работе | D33: 4 | G33: 4 | K33: =C33+D33+E33+F33+G33+H33+I33+J33 -> 8 | L33: 8
A34: 5 | B34: Всего поступило обращений | C34: =C26+C24+C15 -> 0 | D34: =D7+D24 -> 28 | E34: =E7+E24 -> 0 | F34: =F7+F24 -> 0 | G34: =G7+G24 -> 14 | H34: =H7+H24 -> 0 | I34: =I7+I24 -> 0 | J34: =J7+J24 -> 0 | K34: =K7+K24 -> 42 | L34: =L7+L24 -> 114
L35: Г.П. Михайлюк

Sheet структура
B3: Белоглинское с/п | D3: Новопавловское с/п | F3: Успенское с/п | H3: Центральное с/п
A4: Актуальные вопросы | B4: кол-во | C4: % | D4: кол-во | E4: % | F4: кол-во | G4: % | H4: кол-во | I4: %
A5: Всего поступило обращений | B5: ='для поселений'!K34 -> 42 | C5: 100
A6: Всего на тысячу населения | C6: 0.015
A7: вопросы коммунального хозяйства | B7: 0 | C7: =B7/B5 -> 0
A8: вопросы социального обеспечения | B8: ='для поселений'!D34 -> 28 | C8: =B8/B5 -> 0.66666667
A9: вопросы здравоохранения | B9: ='для поселений'!E34 -> 0 | C9: 0
A10: вопросы строительства и архитектуры | B10: ='для поселений'!F34 -> 0 | C10: =B10/B5 -> 0
A11: вопросы законности и правопорядка | B11: ='для поселений'!G34 -> 14 | C11: =B11/B5 -> 0.33333333
A12: вопросы трудовых отношений | B12: ='для поселений'!E10 -> 0 | C12: =B12/B5 -> 0
A13: вопросы земельных отношений | B13: ='для поселений'!E11 -> 0 | C13: 0
A14: вопросы улучшения жилищных условий | B14: ='для поселений'!E14 -> 0 | C14: =B14/B5 -> 0
